BEGIN:VCALENDAR
VERSION:2.0
PRODID:-//Informatik Austria - ECPv5.16.4//NONSGML v1.0//EN
CALSCALE:GREGORIAN
METHOD:PUBLISH
X-WR-CALNAME:Informatik Austria
X-ORIGINAL-URL:https://www.informatikaustria.at
X-WR-CALDESC:Veranstaltungen für Informatik Austria
BEGIN:VTIMEZONE
TZID:Europe/Berlin
BEGIN:DAYLIGHT
TZOFFSETFROM:+0100
TZOFFSETTO:+0200
TZNAME:CEST
DTSTART:20180325T010000
END:DAYLIGHT
BEGIN:STANDARD
TZOFFSETFROM:+0200
TZOFFSETTO:+0100
TZNAME:CET
DTSTART:20181028T010000
END:STANDARD
END:VTIMEZONE
BEGIN:VEVENT
DTSTART;TZID=Europe/Berlin:20181220T130000
DTEND;TZID=Europe/Berlin:20181220T153000
DTSTAMP:20260420T105314
CREATED:20181115T131701Z
LAST-MODIFIED:20181115T132122Z
UID:2147-1545310800-1545319800@www.informatikaustria.at
SUMMARY:Adolf-Adam-Informatikpreisverleihung 2018
DESCRIPTION:Der Adolf-Adam-Informatikpreis wird jedes Jahr für hervorragende Masterarbeiten am Fachbereich Informatik der Johannes Kepler Universität Linz verliehen. Aus allen eingereichten Arbeiten hat eine Fachjury vier Arbeiten zur Präsentation ausgewählt. Aus diesen vier Masterarbeiten wird am 20. Dezember ein Live-Publikum aus an Informatik interessierten SchülerInnen die für sie beste Präsentation wählen.  Der Preis ist mit 1.500 Euro dotiert\,  unter allen abgegebenen Stimmen wird ein iPad verlost. \nSchulklassen können sich noch bis 9. Dezember unter informatikpreis@jku.at für die Preisverleihung anmelden.
URL:https://www.informatikaustria.at/event/adolf-adam-informatikpreisverleihung-2018/
LOCATION:Hörsaal 1 (Raiffeisenhörsaal)\, Altenberger Straße 69\, Linz\, Oberösterreich\, 4040\, Österreich
CATEGORIES:JKU Linz,Wettbewerbe & Awards
ATTACH;FMTTYPE=image/jpeg:https://www.informatikaustria.at/wp-content/uploads/2018/11/Adam_Informatikpreis.jpg
END:VEVENT
END:VCALENDAR