BEGIN:VCALENDAR
VERSION:2.0
PRODID:-//Informatik Austria - ECPv5.16.4//NONSGML v1.0//EN
CALSCALE:GREGORIAN
METHOD:PUBLISH
X-WR-CALNAME:Informatik Austria
X-ORIGINAL-URL:https://www.informatikaustria.at
X-WR-CALDESC:Veranstaltungen für Informatik Austria
BEGIN:VTIMEZONE
TZID:Europe/Berlin
BEGIN:DAYLIGHT
TZOFFSETFROM:+0100
TZOFFSETTO:+0200
TZNAME:CEST
DTSTART:20240331T010000
END:DAYLIGHT
BEGIN:STANDARD
TZOFFSETFROM:+0200
TZOFFSETTO:+0100
TZNAME:CET
DTSTART:20241027T010000
END:STANDARD
END:VTIMEZONE
BEGIN:VEVENT
DTSTART;TZID=Europe/Berlin:20240614T083000
DTEND;TZID=Europe/Berlin:20240614T170000
DTSTAMP:20260421T144829
CREATED:20240427T082156Z
LAST-MODIFIED:20240429T080051Z
UID:4596-1718353800-1718384400@www.informatikaustria.at
SUMMARY:Austrian Computer Science Day 2024
DESCRIPTION:Am 14. Juni findet der ACSD – Austrian Computer Science Day statt: Der ACSD ist eine jährliche Veranstaltung\, die Informatiker:innen aus Österreich und darüber hinaus zusammenbringt\, um die Sichtbarkeit des Fachgebiets zu verbessern und die Zusammenarbeit zu fördern. Die Veranstaltung umfasst wissenschaftliche Präsentationen etablierter und junger Forscher:innen. Die Teilnahme ist kostenlos. \nDas Thema im Jahr 2024 lautet „Netzwerke in der Künstlichen Intelligenz“. \nDiesmal findet sich Veranstaltung an der Universität Wien statt. Das komplette Programm gibt es auf der Webseite.
URL:https://www.informatikaustria.at/event/austrian-computer-science-day-2024/
LOCATION:HS1 / Lecture Hall 1\, W29\, Währinger Strasse 29\, 1090 Vienna\, Vienna\, 1090\, Österreich
CATEGORIES:Universität Wien
ATTACH;FMTTYPE=image/png:https://www.informatikaustria.at/wp-content/uploads/2024/04/ACSD_Sujet.png
ORGANIZER;CN="Universit%C3%A4t%20Wien":MAILTO:dekanat.informatik@ univie.ac.at
END:VEVENT
END:VCALENDAR