BEGIN:VCALENDAR
VERSION:2.0
PRODID:-//Informatik Austria - ECPv5.16.4//NONSGML v1.0//EN
CALSCALE:GREGORIAN
METHOD:PUBLISH
X-WR-CALNAME:Informatik Austria
X-ORIGINAL-URL:https://www.informatikaustria.at
X-WR-CALDESC:Veranstaltungen für Informatik Austria
BEGIN:VTIMEZONE
TZID:Europe/Berlin
BEGIN:DAYLIGHT
TZOFFSETFROM:+0100
TZOFFSETTO:+0200
TZNAME:CEST
DTSTART:20170326T010000
END:DAYLIGHT
BEGIN:STANDARD
TZOFFSETFROM:+0200
TZOFFSETTO:+0100
TZNAME:CET
DTSTART:20171029T010000
END:STANDARD
END:VTIMEZONE
BEGIN:VEVENT
DTSTART;TZID=Europe/Berlin:20171212T131500
DTEND;TZID=Europe/Berlin:20171212T144500
DTSTAMP:20260422T142759
CREATED:20171128T125455Z
LAST-MODIFIED:20171128T125455Z
UID:1546-1513084500-1513089900@www.informatikaustria.at
SUMMARY:CANCELLED - CS Colloquium mit Prof. Kien A. Hua
DESCRIPTION:Emerging Cyber-Human Workplaces with Internet of Things. Challenges and Opportunities\n \n! Veranstaltung wurde aufgrund einer Erkrankung abgesagt ! \n» Zur Webseite der Veranstaltung \n  \n  \n  \n 
URL:https://www.informatikaustria.at/event/cs-colloquium-mit-prof-kien-a-hua/
LOCATION:Fakultät für Informatik | Universität Wien\, Währinger Straße 29\, Wien\, 1090\, Österreich
CATEGORIES:Angewandte Informatik
ORGANIZER;CN="Fakult%C3%A4t%20f%C3%BCr%20Informatik":MAILTO:dekanat.informatik@univie.ac.at
END:VEVENT
END:VCALENDAR