BEGIN:VCALENDAR
VERSION:2.0
PRODID:-//Informatik Austria - ECPv5.16.4//NONSGML v1.0//EN
CALSCALE:GREGORIAN
METHOD:PUBLISH
X-WR-CALNAME:Informatik Austria
X-ORIGINAL-URL:https://www.informatikaustria.at
X-WR-CALDESC:Veranstaltungen für Informatik Austria
BEGIN:VTIMEZONE
TZID:Europe/Berlin
BEGIN:DAYLIGHT
TZOFFSETFROM:+0100
TZOFFSETTO:+0200
TZNAME:CEST
DTSTART:20240331T010000
END:DAYLIGHT
BEGIN:STANDARD
TZOFFSETFROM:+0200
TZOFFSETTO:+0100
TZNAME:CET
DTSTART:20241027T010000
END:STANDARD
END:VTIMEZONE
BEGIN:VEVENT
DTSTART;TZID=Europe/Berlin:20240626T100000
DTEND;TZID=Europe/Berlin:20240626T110000
DTSTAMP:20260421T180121
CREATED:20240617T072644Z
LAST-MODIFIED:20240617T072644Z
UID:4645-1719396000-1719399600@www.informatikaustria.at
SUMMARY:End-to-End Adaptive Video Streaming Optimization
DESCRIPTION:Wednesday\, June 26\, 2024 | 10:00 am (CET) | Room: HS 11 | | Alpen-Adria-Universität Klagenfurt \nDr. Farzad Tashtarian | Department of Information Technology (ATHENA Christian Doppler (CD) Laboratory) \nAbstract: In today’s digital landscape\, video streaming has become a cornerstone of online content delivery\, with applications spanning entertainment\, education\, teleconferencing\, and live broadcasting. The importance of optimizing video streaming cannot be overstated\, as Quality of Experience (QoE) directly impacts user engagement and satisfaction. However\, the video streaming pipeline faces significant challenges\, including maintaining high QoE\, minimizing latency\, and managing costs effectively. This talk addresses these critical issues by exploring holistic strategies that enhance the video streaming experience from source to destination. We will delve into the complexities of content provisioning\, content delivery\, and content consumption\, emphasizing the necessity of an end-to-end approach. Additionally\, by considering the entire streaming pipeline\, we will discuss novel algorithms designed for optimizing end-to-end video streaming and demonstrate how these approaches can more effectively tackle the primary challenges of QoE\, end-to-end latency\, and video streaming costs. \nBio: Farzad Tashtarian is a post-doctoral researcher in the ATHENA project at the Institute of Information Technology (ITEC)\, Alpen-Adria-Universität Klagenfurt (AAU). Prior to joining ATHENA\, he served as an Assistant Professor at Azad University of Mashhad\, Iran. He earned his Ph.D. in Computer Engineering from Ferdowsi University of Mashhad\, Iran. As a researcher\, he has co-authored more than 60 papers published in prestigious journals and conferences. He is a work-package leader and scientific coordinator in the ATHENA Projects at Alpen-Adria-Universität Klagenfurt. His current research interests include Multimedia Networks\, Immersive Media\, Generative AI for Multimedia Streaming\, software-defined networking\, mathematical modeling\, and distributed optimization. For more information visit: https://tashtarian.net/
URL:https://www.informatikaustria.at/event/end-to-end-adaptive-video-streaming-optimization/
LOCATION:HS 11\, Mensa Gebäude\, Universität Klagenfurt\, Universitätsstraße 65-67\, Klagenfurt\, Kärnten\, 9020\, Österreich
CATEGORIES:AAU Klagenfurt
END:VEVENT
END:VCALENDAR