BEGIN:VCALENDAR
VERSION:2.0
PRODID:-//Informatik Austria - ECPv5.16.4//NONSGML v1.0//EN
CALSCALE:GREGORIAN
METHOD:PUBLISH
X-WR-CALNAME:Informatik Austria
X-ORIGINAL-URL:https://www.informatikaustria.at
X-WR-CALDESC:Veranstaltungen für Informatik Austria
BEGIN:VTIMEZONE
TZID:Europe/Berlin
BEGIN:DAYLIGHT
TZOFFSETFROM:+0100
TZOFFSETTO:+0200
TZNAME:CEST
DTSTART:20240331T010000
END:DAYLIGHT
BEGIN:STANDARD
TZOFFSETFROM:+0200
TZOFFSETTO:+0100
TZNAME:CET
DTSTART:20241027T010000
END:STANDARD
END:VTIMEZONE
BEGIN:VEVENT
DTSTART;TZID=Europe/Berlin:20240625T090000
DTEND;TZID=Europe/Berlin:20240625T100000
DTSTAMP:20260421T162417
CREATED:20240612T073920Z
LAST-MODIFIED:20240617T082718Z
UID:4624-1719306000-1719309600@www.informatikaustria.at
SUMMARY:Greening local government units: Current status and required competences
DESCRIPTION:Tuesday\, June 25\, 2024 | 09:00 am (CET) | Room: HS 10 | Alpen-Adria Universität Klagenfurt \nProf. Tamer Khatib | An-Najah National University\n \nAbstract: In order to assure sustainable development\, decentralized green management is required through local government units. Such a process required competences that imply behavioral\, structural and strategic aspects. Join us to learn more on how to green governments for localized sustainable development. \nBio: Tamer is a photovoltaic power systems professional. He holds a B.Sc. degree in electrical power systems from An-Najah National University\, Palestine as well as a M.Sc. degree and a Ph.D degree in photovoltaic power systems from National University of Malaysia\, Malaysia. In addition he holds Habilitation (the highest academic degree in German speaking countries) in Renewable and sustainable energy from Alpen Adria Universitat\, Klagenfurt\, Austria. Currently he is a Full Professor of renewable energy at An-Najah National University. He is also the director of An-Najah Company for Consultancy and Technical Studies. So far\, he has 2 patents\, 4 books and 140 research articles\, while his current h-index is 42. He has supervised 5 Ph.D researches\, 19 master researches and 65 bachelor researches. He is a senior member of IEEE\, IEEE Power and Energy Society\, The International Solar Energy society\, Jordanian Engineers Association\, and International Association of Engineers. \nHis research interests mainly fall in the scope of photovoltaic systems and solar energy fundamentals. These interests include PV systems design and optimization\, modeling and control of PV systems\, hybrid PV/Wind systems\, hybrid PV/diesel systems\, Grid connected PV systems\, sun trackers\, MPPT technology\, inverters in PV system\, solar chargers\, batteries and charge controllers\, solar energy fundamentals\, solar energy prediction\, AI applications for solar energy and PV systems\, wind power systems\, wind chargers\, wind energy modeling and prediction.
URL:https://www.informatikaustria.at/event/greening-local-government-units-current-status-and-required-competences/
LOCATION:HS 10\, Mnsa Gebäude\, Universitätsstraße 65-67\, Klagenfurt\, Kärnten\, 9020\, Österreich
CATEGORIES:AAU Klagenfurt
END:VEVENT
END:VCALENDAR