BEGIN:VCALENDAR
VERSION:2.0
PRODID:-//Informatik Austria - ECPv5.16.4//NONSGML v1.0//EN
CALSCALE:GREGORIAN
METHOD:PUBLISH
X-WR-CALNAME:Informatik Austria
X-ORIGINAL-URL:https://www.informatikaustria.at
X-WR-CALDESC:Veranstaltungen für Informatik Austria
BEGIN:VTIMEZONE
TZID:Europe/Berlin
BEGIN:DAYLIGHT
TZOFFSETFROM:+0100
TZOFFSETTO:+0200
TZNAME:CEST
DTSTART:20160327T010000
END:DAYLIGHT
BEGIN:STANDARD
TZOFFSETFROM:+0200
TZOFFSETTO:+0100
TZNAME:CET
DTSTART:20161030T010000
END:STANDARD
END:VTIMEZONE
BEGIN:VEVENT
DTSTART;TZID=Europe/Berlin:20160203T090000
DTEND;TZID=Europe/Berlin:20160203T140000
DTSTAMP:20260422T110316
CREATED:20151218T121256Z
LAST-MODIFIED:20151218T121256Z
UID:393-1454490000-1454508000@www.informatikaustria.at
SUMMARY:I-Day 2016
DESCRIPTION:Der Tag der offenen Tür am Fachbereich Computerwissenschaften der Universität Salzburg \nWANN: Mittwoch\, 3. Februar 2016\, 9:00 bis 14:00 Uhr \nWO: Fachbereich Computerwissenschaften\, Jakob-Haringer-Strasse 2\, 5020 Salzburg \nWAS: Projekte\, Vorträge\, Präsentationen und aktuelle Informationen zum Studium sowie zur Forschung in der Informatik! \nStationen: \n\nCSI – Welche Spuren hinterlässt meine Kamera in Bildern?\nRundholztracking – Digitale Fingerabdrücke von Rundholz Digitale Fingerabdrücke von Rundholz\nFlugverkehrssimulator – Erprobe Entscheidungshilfen für Fluglotsen interaktiv mit einem Flugsimulator\nJaviator – Das fliegende Softwarelabor\nSoftware fährt Auto – Echtzeit-Software\, Zuverlässigkeit\, Sicherheit\nCrossMediaGame – Brettspielspaß mit Digitalem verbunden\nNAO – Ich Mensch\, du Roboter\nOculus Rift – Virtuelle Realität für Jedermann\nCross Media Game – Spiele für Kinder programmieren\n\nVorträge: \n\nWie hört sich eine Fourier-Transformation an?\nweitere Vorträge folgen\n\nmehr Information im Folder
URL:https://www.informatikaustria.at/event/i-day-2016/
LOCATION:FB Computerwissenschaften\, Jakob-Haringer-Straße 2\, Salzburg\, Salzburg\, 5020\, Österreich
CATEGORIES:Angewandte Informatik
ORGANIZER;CN="Universit%C3%A4t%20Salzburg":MAILTO:fbleitung@cosy.sbg.ac.at
END:VEVENT
END:VCALENDAR