BEGIN:VCALENDAR
VERSION:2.0
PRODID:-//Informatik Austria - ECPv5.16.4//NONSGML v1.0//EN
CALSCALE:GREGORIAN
METHOD:PUBLISH
X-WR-CALNAME:Informatik Austria
X-ORIGINAL-URL:https://www.informatikaustria.at
X-WR-CALDESC:Veranstaltungen für Informatik Austria
BEGIN:VTIMEZONE
TZID:Europe/Berlin
BEGIN:DAYLIGHT
TZOFFSETFROM:+0100
TZOFFSETTO:+0200
TZNAME:CEST
DTSTART:20180325T010000
END:DAYLIGHT
BEGIN:STANDARD
TZOFFSETFROM:+0200
TZOFFSETTO:+0100
TZNAME:CET
DTSTART:20181028T010000
END:STANDARD
END:VTIMEZONE
BEGIN:VEVENT
DTSTART;TZID=Europe/Berlin:20180418T150000
DTEND;TZID=Europe/Berlin:20180418T160000
DTSTAMP:20260422T180550
CREATED:20180405T122229Z
LAST-MODIFIED:20180405T122229Z
UID:1642-1524063600-1524067200@www.informatikaustria.at
SUMMARY:Informatik versus ICT und “Digitalisierung“
DESCRIPTION:CS-COLLOQUIUM mit Prof. Helmut Schauer\n„Welche langfristig relevanten Informatik-Bildungswerte können und sollen in der Schule vermittelt werden?“\nOrt: HS3\, Währinger Straße 29\, 1090 Wien\n» Website zur Veranstaltung \nVersteht man unter Bildung die “Formung des Menschen im Hinblick auf sein „Menschsein“\, das heißt zu einer Persönlichkeit\, die sich durch besondere geistige\, physische\, soziale und kulturelle Merkmale auszeichnet” (https://de.wikipedia.org/wiki/Bildung) und berücksichtigt die geringe Halbwertszeit produktspezifischer ICT-Kenntnisse von nur wenigen Jahren so ist die Frage berechtigt\, welche langfristig relevanten Informatik-Bildungswerte in der Schule vermittelt werden können und sollen. \nDazu gehören: \n\nder Umgang mit formalisierten Systemen\ndas Verstehen von Begriffen wie Information\, Codes und Redundanz\ndas Überbrücken von Größenordnungen (von Millisekunden bis Gigabytes)\ndie Verwendung unterschiedlicher Notationsformen (z.B.: zur Beschreibung von Prozessen – Stichwort “Coding”)\ndas Überprüfen von Signifikanz und Plausibilität\nModellbildung (mit zugehöriger Abstraktion) sowie der Wechsel zwischen deterministischen und chaoti-\nschen Sichtweisen\n\nAn zahlreichen anschaulichen Beispielen wird illustriert wie diese Konzepte in verschiedenen Schulstufen praktisch veranschaulicht werden können.\nDes Weiteren werden die Herausforderungen einer umfassenden Fort- und Weiterbildung des Lehrpersonals disku-tiert und gegen den verbreiteten Irrtum angekämpft\, dass es mit großen Anstrengungen möglich wäre\, die Kluft zwischen dem\, was jeweils aktuell technisch möglich ist und dem\, was im schulischen Alltag tatsächlich Eingang findet\, zu überwinden.\nNicht zuletzt wird auf den populistischen Begriff „Digitalisierung“ eingegangen und die These untermauert\, dass “Leben” ausschließlich auf digitalen Grundprinzipien beruht.
URL:https://www.informatikaustria.at/event/informatik-versus-ict-und-digitalisierung/
LOCATION:Fakultät für Informatik | Universität Wien\, Währinger Straße 29\, Wien\, 1090\, Österreich
END:VEVENT
END:VCALENDAR