BEGIN:VCALENDAR
VERSION:2.0
PRODID:-//Informatik Austria - ECPv5.16.4//NONSGML v1.0//EN
CALSCALE:GREGORIAN
METHOD:PUBLISH
X-WR-CALNAME:Informatik Austria
X-ORIGINAL-URL:https://www.informatikaustria.at
X-WR-CALDESC:Veranstaltungen für Informatik Austria
BEGIN:VTIMEZONE
TZID:Europe/Berlin
BEGIN:DAYLIGHT
TZOFFSETFROM:+0100
TZOFFSETTO:+0200
TZNAME:CEST
DTSTART:20180325T010000
END:DAYLIGHT
BEGIN:STANDARD
TZOFFSETFROM:+0200
TZOFFSETTO:+0100
TZNAME:CET
DTSTART:20181028T010000
END:STANDARD
END:VTIMEZONE
BEGIN:VEVENT
DTSTART;VALUE=DATE:20180129
DTEND;VALUE=DATE:20180203
DTSTAMP:20260422T160857
CREATED:20180109T095606Z
LAST-MODIFIED:20180109T095606Z
UID:1585-1517184000-1517615999@www.informatikaustria.at
SUMMARY:SOFSEM 2018
DESCRIPTION:Die SOFSEM 2018 findet von 29. Jänner bis 2. Februar 2018  in Krems an der Donau statt. Mit ihrer 44. Ausgabe geht die Konferenz das erste Mal in Österreich über die Bühne. Themen sind die neuesten Trends in Theorie und Praxis der Computerwissenschaften\, internationale Speaker wie Manfred Broy\, Georg Gottlob\, Monika Henzinger\, Thomas  Eiter\, Yannis Manolopoulos\, Michel Chaudron und Danny Weyns sorgen für ein spannendes Konferenzprogramm. \nHier geht es zur Anmeldung.
URL:https://www.informatikaustria.at/event/sofsem-2018/
LOCATION:Donau Universität\, Dr. Karl-Dorrek-Straße 30\, Krems\, 3500\, Österreich
ORGANIZER;CN="TU%20Wien":MAILTO:dekan@informatik.tuwien.ac.at
END:VEVENT
END:VCALENDAR