BEGIN:VCALENDAR
VERSION:2.0
PRODID:-//Informatik Austria - ECPv5.16.4//NONSGML v1.0//EN
CALSCALE:GREGORIAN
METHOD:PUBLISH
X-WR-CALNAME:Informatik Austria
X-ORIGINAL-URL:https://www.informatikaustria.at
X-WR-CALDESC:Veranstaltungen für Informatik Austria
BEGIN:VTIMEZONE
TZID:Europe/Berlin
BEGIN:DAYLIGHT
TZOFFSETFROM:+0100
TZOFFSETTO:+0200
TZNAME:CEST
DTSTART:20150329T010000
END:DAYLIGHT
BEGIN:STANDARD
TZOFFSETFROM:+0200
TZOFFSETTO:+0100
TZNAME:CET
DTSTART:20151025T010000
END:STANDARD
END:VTIMEZONE
BEGIN:VEVENT
DTSTART;TZID=Europe/Berlin:20150326T173000
DTEND;TZID=Europe/Berlin:20150326T210000
DTSTAMP:20260421T121410
CREATED:20150325T141725Z
LAST-MODIFIED:20150325T141725Z
UID:109-1427391000-1427403600@www.informatikaustria.at
SUMMARY:Vienna Gödel Lecture der Fakultät für Informatik - Peter Norvig
DESCRIPTION:Bei der Vienna Gödel Lecture erwartet uns heuer ein spannender Vortrag von Peter Norvig\, Forschungsdirektor bei Google Inc.\, zu intelligenten Computern. \nWie Computer lernen\nZur diesjährigen Vienna Gödel Lecture der Fakultät für Informatik am 26. März 2015 wird Peter Norvig nach Wien kommen. \nEr wird aus seiner langjährigen Erfahrung mit lernenden Computern berichten. So entwickelten Informatiker hochkomplexe Programmiersprachen und Systeme\, die uns erlauben\, Schritt für Schritt zu beschreiben\, wie man ein Problem lösen kann\, wie z.B. Bankkonten ausgeglichen zu halten. Aber es gibt auch andere Probleme\, wo sie nicht beschreiben können\, wie das Problem gelöst werden könnte: Wie erkennen wir das Gesicht einer Person wieder\, oder wie übersetzen wir einen Absatz vom Deutschen ins Englische? Wir können derzeit nicht beschreiben\, wie wir das machen\, und daher können wir auch nicht einfach einen Computer programmieren\, dies zu tun\, aber wir können Computer beibringen\, zu lernen wie sie das tun können. Dieser Vortrag wird anhand von Beispielen erklären\, wie Computer lernen können\, aber auch darlegen\, was wirklich möglich ist\, und wo es einfach Grenzen gibt. \nBiografie von Peter Norvig\nPeter Norvig ist derzeit Forschungsdirektor bei Google Inc. Davor war er Leiter der „Google’s core search algorithms group“\, und senior computer scientist bei der NASA. \n2001 erhielt er den NASA Exceptional Achievement Award. Er lehrte an der Universität von Südkalifornien und an der Universität von Kalifornien in Berkeley\, wo er 1986 sein Ph.D. erhielt\, und 2006 den Distinguished Alumni Award. Er war Mit-Lehrender eines Kurses für künstliche Intelligenz\, an dem 160000 Studierende beteiligt waren\, wo er beim Initiieren der ersten riesigen Online-Kurse half. Er glaubt an eine bevorstehende Revolution in der Lehre\, die durch Computerunterstützung gefördert wird. \nSeine wichtigsten Publikationen sind: \n\n\nArtificial Intelligence: A Modern Approach (das führende Lehrbuch im Bereich der Künstlichen Intelligenz)\,\nParadigms of AI Programming: Case Studies in Common Lisp\nVerbmobil: A Translation System for Face-to-Face Dialog\nund Intelligent Help Systems for UNIX.\n\n\nPeter Norvig ist Autor der Gettysburg Powerpoint Präsentation und des weltlängsten palindromischen Satzes. Er ist Mitglied bei der Association for the Advancement of Artificial Intelligence (AAAI)\, Association for Computing Machinery (ACM)\, California Academy of Science und der American Academy of Arts & Sciences. \nNachberichte und Downloads\n\nHomepage von Peter Norvig
URL:https://www.informatikaustria.at/event/vienna-goedel-lecture-der-fakultaet-fuer-informatik-peter-norvig/
LOCATION:TU Wien Hörsaal EI 7\, Gußhausstraße 27-29\, Wien\, 1040\, Österreich
CATEGORIES:Logik & AI
ORGANIZER;CN="TU%20Wien":MAILTO:dekan@informatik.tuwien.ac.at
END:VEVENT
END:VCALENDAR