BEGIN:VCALENDAR
VERSION:2.0
PRODID:-//Informatik Austria - ECPv5.16.4//NONSGML v1.0//EN
CALSCALE:GREGORIAN
METHOD:PUBLISH
X-WR-CALNAME:Informatik Austria
X-ORIGINAL-URL:https://www.informatikaustria.at
X-WR-CALDESC:Veranstaltungen für Informatik Austria
BEGIN:VTIMEZONE
TZID:Europe/Berlin
BEGIN:DAYLIGHT
TZOFFSETFROM:+0100
TZOFFSETTO:+0200
TZNAME:CEST
DTSTART:20180325T010000
END:DAYLIGHT
BEGIN:STANDARD
TZOFFSETFROM:+0200
TZOFFSETTO:+0100
TZNAME:CET
DTSTART:20181028T010000
END:STANDARD
END:VTIMEZONE
BEGIN:VEVENT
DTSTART;TZID=Europe/Berlin:20180530T150000
DTEND;TZID=Europe/Berlin:20180530T160000
DTSTAMP:20260422T213425
CREATED:20180507T121443Z
LAST-MODIFIED:20180507T121443Z
UID:1664-1527692400-1527696000@www.informatikaustria.at
SUMMARY:What Shakespeare Taught Us About Data Science and Visualization
DESCRIPTION:CS-COLLOQUIUM with Prof. Michael Gleicher\n(University of Wisconsin | Department of Computer Sciences) \n\n\n\nWhen? 30th May 2018\, 3:00 pm/30. Mai 2018\, 15:00 Uhr \nWhere? Hörsaal 3 (HS3) Währinger Straße 29\, 1090 Vienna \n\n\n  \nIn this talk\, I will discuss some of the lessons we have learned from a collaboration between computer scientists and literature scholars. Our project sought to help scholars use data science methods to study historical literature at unprecedented scale.\nIn developing data-centric approaches to English literature of the Early Modern period (roughly 1470-1700\, including Shakespeare)\, we gained a different understanding of data science.\nThe unique nature of the collaboration highlighted that working with data is a process with many stages\, and that different users have different needs.\nThe project provided an opportunity for us to develop and test our ideas about tools for data analysis and visualization.\nThis talk will provide an overview of the project\, and use the project as motivation for some of our recent results in understanding the data science process and providing data analysis and visualization tools. \n  \nBio\nMichael Gleicher is a Professor in the Department of Computer Sciences at the University of Wisconsin\, Madison. Prof. Gleicher is founder of the Department’s Visual Computing Group.\nHis research interests span the range of visual computing\, including data visualization\, robotics\, image and video processing tools\, virtual reality\, and character animation. His current foci are human data interaction and human robot interaction.\nPrior to joining the university\, Prof. Gleicher was a researcher at The Autodesk Vision Technology Center and in Apple Computer’s Advanced Technology Group.\nHe earned his Ph. D. in Computer Science from Carnegie Mellon University\, and holds a B.S.E. in Electrical Engineering from Duke University.\nIn 2013-2014\, he was a visiting researcher at INRIA Rhone-Alpes. Prof. Gleicher is an ACM Distinguished Scientist. \nTo get more info visit: http://pages.cs.wisc.edu/~gleicher/
URL:https://www.informatikaustria.at/event/what-shakespeare-taught-us-about-data-science-and-visualization/
LOCATION:Fakultät für Informatik | Universität Wien\, Währinger Straße 29\, Wien\, 1090\, Österreich
CATEGORIES:Data Analysis
ORGANIZER;CN="Fakult%C3%A4t%20f%C3%BCr%20Informatik":MAILTO:dekanat.informatik@univie.ac.at
END:VEVENT
END:VCALENDAR